BEGIN:VCALENDAR
VERSION:2.0
PRODID:-//Bentley Priory Museum - ECPv6.11.0.1//NONSGML v1.0//EN
CALSCALE:GREGORIAN
METHOD:PUBLISH
X-ORIGINAL-URL:https://bentleypriorymuseum.org.uk
X-WR-CALDESC:Events for Bentley Priory Museum
REFRESH-INTERVAL;VALUE=DURATION:PT1H
X-Robots-Tag:noindex
X-PUBLISHED-TTL:PT1H
BEGIN:VTIMEZONE
TZID:Europe/London
BEGIN:DAYLIGHT
TZOFFSETFROM:+0000
TZOFFSETTO:+0100
TZNAME:BST
DTSTART:20160327T010000
END:DAYLIGHT
BEGIN:STANDARD
TZOFFSETFROM:+0100
TZOFFSETTO:+0000
TZNAME:GMT
DTSTART:20161030T010000
END:STANDARD
END:VTIMEZONE
BEGIN:VEVENT
DTSTART;TZID=Europe/London:20161024T130000
DTEND;TZID=Europe/London:20161024T150000
DTSTAMP:20260423T122138
CREATED:20160920T072011Z
LAST-MODIFIED:20160920T072011Z
UID:10001620-1477314000-1477321200@bentleypriorymuseum.org.uk
SUMMARY:Airfix "Make and Paint"
DESCRIPTION:Try out your model making skills with this free family activity. Make your own Airfix model and paint it too. Once completed\, it is yours to take home. \nSuitable for ages 8+. Alternative craft activity available for younger children. \nIncluded in museum admission. Children must be accompanied by an adult.
URL:https://bentleypriorymuseum.org.uk/whats-on/airfix-make-and-paint-13/
ATTACH;FMTTYPE=image/jpeg:https://bentleypriorymuseum.org.uk/wp-content/uploads/2015/01/MJ20269.jpg
END:VEVENT
END:VCALENDAR