BEGIN:VCALENDAR
VERSION:2.0
PRODID:-//Bentley Priory Museum - ECPv6.11.0.1//NONSGML v1.0//EN
CALSCALE:GREGORIAN
METHOD:PUBLISH
X-ORIGINAL-URL:https://bentleypriorymuseum.org.uk
X-WR-CALDESC:Events for Bentley Priory Museum
REFRESH-INTERVAL;VALUE=DURATION:PT1H
X-Robots-Tag:noindex
X-PUBLISHED-TTL:PT1H
BEGIN:VTIMEZONE
TZID:UTC
BEGIN:STANDARD
TZOFFSETFROM:+0000
TZOFFSETTO:+0000
TZNAME:UTC
DTSTART:20200101T000000
END:STANDARD
END:VTIMEZONE
BEGIN:VEVENT
DTSTART;TZID=UTC:20200413T100000
DTEND;TZID=UTC:20200413T160000
DTSTAMP:20260425T163608
CREATED:20200317T112543Z
LAST-MODIFIED:20200323T132429Z
UID:10002252-1586772000-1586793600@bentleypriorymuseum.org.uk
SUMMARY:CANCELLED: Easter Holidays: Trail
DESCRIPTION:Easter Holidays: Easter Egg Raid \nUse a gridded map to locate the egg raids plotted around the museum. \nFind all the ‘good eggs’ to claim your chocolate prize! \n \n 
URL:https://bentleypriorymuseum.org.uk/whats-on/easter-holidays-trail/2020-04-13/
CATEGORIES:Family Activities
END:VEVENT
END:VCALENDAR