BEGIN:VCALENDAR
VERSION:2.0
PRODID:-//Bentley Priory Museum - ECPv6.11.0.1//NONSGML v1.0//EN
CALSCALE:GREGORIAN
METHOD:PUBLISH
X-ORIGINAL-URL:https://bentleypriorymuseum.org.uk
X-WR-CALDESC:Events for Bentley Priory Museum
REFRESH-INTERVAL;VALUE=DURATION:PT1H
X-Robots-Tag:noindex
X-PUBLISHED-TTL:PT1H
BEGIN:VTIMEZONE
TZID:Europe/London
BEGIN:DAYLIGHT
TZOFFSETFROM:+0000
TZOFFSETTO:+0100
TZNAME:BST
DTSTART:20230326T010000
END:DAYLIGHT
BEGIN:STANDARD
TZOFFSETFROM:+0100
TZOFFSETTO:+0000
TZNAME:GMT
DTSTART:20231029T010000
END:STANDARD
END:VTIMEZONE
BEGIN:VTIMEZONE
TZID:UTC
BEGIN:STANDARD
TZOFFSETFROM:+0000
TZOFFSETTO:+0000
TZNAME:UTC
DTSTART:20230101T000000
END:STANDARD
END:VTIMEZONE
BEGIN:VEVENT
DTSTART;TZID=Europe/London:20230322T100000
DTEND;TZID=Europe/London:20230322T163000
DTSTAMP:20260419T150014
CREATED:20230316T153450Z
LAST-MODIFIED:20230316T213726Z
UID:10002499-1679479200-1679502600@bentleypriorymuseum.org.uk
SUMMARY:National Lottery Open Week: Free Tea/Coffee to ticket holders
DESCRIPTION:This National Lottery Open Week\, we’re saying Thanks To You with a free tea or coffee in our Museum cafe. \nEvery week National Lottery players raise over £30 million for good cause projects\, like ours. That’s why we’re pleased to be taking part in National Lottery Open Week\, which celebrates the contribution of National Lottery players in supporting good causes over the past 28 years. \nTo thank National Lottery players for their support\, we will be offering a free tea or coffee in our Museum cafe on our open days between Saturday 18 – Saturday 25 March 2023. \nAnyone who presents any National Lottery ticket (digital or physical)\, scratchcard\, or Instant Win Game\, on these dates will be able to take up this special offer. Please check our full terms and conditions below. \nAs a recipient of National Lottery funding\, Bentley Priory Museum has been able to recently launch our Clerk Special Duties project\, through which we will be uncovering and sharing the stories of  women in WAAF who played a vital role within the Dowding System during the Second World War.  \nThe National Lottery supports good cause projects in the areas of arts\, education\, environment\, health\, heritage\, sport and community. Over the past 28 years\, National Lottery players have raised more than £46 billion for projects which are making a huge difference to lives of people and communities throughout the whole of the UK. \nTerms and Conditions: \n\nAdmission to the Museum’s cafe is available to Museum visitors only. Purchase of Museum admission applies.\nThis offer will run on Saturday 18\, Wednesday 22\, Friday 24 and Saturday 25 March 2023.\nBooking in advance is not required.\nOne National Lottery ticket (physical or digital)\, scratchcard\, or Instant Win Game will give access for one person to this offer.\nAll National Lottery games\, including National Lottery draw-based games\, Instant Win Games\, and National Lottery scratchcards\, purchased in-store and online / via app\, qualify to redeem this offer.\nProof of purchase of a National Lottery game can be either hard copy ticket or digital.\nThe date of draw / purchase is not relevant.\nAll offers are subject to availability.\nBentley Priory Museum has the right to refuse entry in the unlikely event of venue / offer reaching capacity\, as well as unforeseen circumstances.\nIn the event of queries on the day\, the organisation’s decision is final.\nThis offer is not exchangeable.
URL:https://bentleypriorymuseum.org.uk/whats-on/national-lottery-open-week-free-tea-coffee-to-ticket-holders/2023-03-22/
LOCATION:Bentley Priory Museum\, Mansion House Drive\, Stanmore\, HA7 3FB\, United Kingdom
CATEGORIES:Special Events
ATTACH;FMTTYPE=image/jpeg:https://bentleypriorymuseum.org.uk/wp-content/uploads/2023/03/cafe-25.jpg
ORGANIZER;CN="Bentley Priory Museum":MAILTO:enquiries@bentleypriorymuseum.org.uk
END:VEVENT
BEGIN:VEVENT
DTSTART;TZID=UTC:20230322T100000
DTEND;TZID=UTC:20230322T170000
DTSTAMP:20260419T150014
CREATED:20230119T103048Z
LAST-MODIFIED:20230323T132352Z
UID:10002434-1679479200-1679504400@bentleypriorymuseum.org.uk
SUMMARY:Forgotten Force: Art & Memory
DESCRIPTION:Forgotten Force was an oral history project by the Piłsudski Institute of London giving first-hand evidence of the past by audio and video recording stories of Polish women survivors of the Second World War who have been residing in the UK for the past seventy years. To help bring these stories to life the Institute invited a London based artist and art conservator\, Zofia Wyszomirska-Noga\, to interpret the assembled tales and translate them to image. \nEphemeral\, monochromatic\, charcoal drawings that define the distant memory of a dramatic journey. Marbled paper bursting with splashes of colour embedded in the background; droplets of the past reimagined through an artist’s compassionate eye. Mothers shielding their children\, railway tracks\, snowy landscapes and angels emerge from the work of Zofia Wyszomirska-Noga to find a way into our hearts and memories. \n \nTemporary Exhibition Gallery. \nIncluded in Museum Admission and Membership.
URL:https://bentleypriorymuseum.org.uk/whats-on/forgotten-force-art-memory/2023-03-22/
CATEGORIES:Temporary Exhibitions
ATTACH;FMTTYPE=image/jpeg:https://bentleypriorymuseum.org.uk/wp-content/uploads/2023/01/Intro-panel-picture-scaled-e1674124218163.jpg
END:VEVENT
END:VCALENDAR