BEGIN:VCALENDAR
VERSION:2.0
PRODID:-//Bentley Priory Museum - ECPv6.11.0.1//NONSGML v1.0//EN
CALSCALE:GREGORIAN
METHOD:PUBLISH
X-WR-CALNAME:Bentley Priory Museum
X-ORIGINAL-URL:https://bentleypriorymuseum.org.uk
X-WR-CALDESC:Events for Bentley Priory Museum
REFRESH-INTERVAL;VALUE=DURATION:PT1H
X-Robots-Tag:noindex
X-PUBLISHED-TTL:PT1H
BEGIN:VTIMEZONE
TZID:UTC
BEGIN:STANDARD
TZOFFSETFROM:+0000
TZOFFSETTO:+0000
TZNAME:UTC
DTSTART:20230101T000000
END:STANDARD
END:VTIMEZONE
BEGIN:VTIMEZONE
TZID:Europe/London
BEGIN:DAYLIGHT
TZOFFSETFROM:+0000
TZOFFSETTO:+0100
TZNAME:BST
DTSTART:20230326T010000
END:DAYLIGHT
BEGIN:STANDARD
TZOFFSETFROM:+0100
TZOFFSETTO:+0000
TZNAME:GMT
DTSTART:20231029T010000
END:STANDARD
END:VTIMEZONE
BEGIN:VEVENT
DTSTART;TZID=UTC:20230526T100000
DTEND;TZID=UTC:20230526T170000
DTSTAMP:20260419T182320
CREATED:20230119T103048Z
LAST-MODIFIED:20230323T132352Z
UID:10002462-1685095200-1685120400@bentleypriorymuseum.org.uk
SUMMARY:Forgotten Force: Art & Memory
DESCRIPTION:Forgotten Force was an oral history project by the Piłsudski Institute of London giving first-hand evidence of the past by audio and video recording stories of Polish women survivors of the Second World War who have been residing in the UK for the past seventy years. To help bring these stories to life the Institute invited a London based artist and art conservator\, Zofia Wyszomirska-Noga\, to interpret the assembled tales and translate them to image. \nEphemeral\, monochromatic\, charcoal drawings that define the distant memory of a dramatic journey. Marbled paper bursting with splashes of colour embedded in the background; droplets of the past reimagined through an artist’s compassionate eye. Mothers shielding their children\, railway tracks\, snowy landscapes and angels emerge from the work of Zofia Wyszomirska-Noga to find a way into our hearts and memories. \n \nTemporary Exhibition Gallery. \nIncluded in Museum Admission and Membership.
URL:https://bentleypriorymuseum.org.uk/whats-on/forgotten-force-art-memory/2023-05-26/
CATEGORIES:Temporary Exhibitions
ATTACH;FMTTYPE=image/jpeg:https://bentleypriorymuseum.org.uk/wp-content/uploads/2023/01/Intro-panel-picture-scaled-e1674124218163.jpg
END:VEVENT
BEGIN:VEVENT
DTSTART;TZID=Europe/London:20230526T110000
DTEND;TZID=Europe/London:20230526T120000
DTSTAMP:20260419T182320
CREATED:20230329T135515Z
LAST-MODIFIED:20230503T163104Z
UID:10002524-1685098800-1685102400@bentleypriorymuseum.org.uk
SUMMARY:Friday Morning Talks: Air Power and the evacuation of Dunkirk: The RAF and Luftwaffe during Operation Dynamo - With Dr Harry Raffal
DESCRIPTION:Join us for our Friday morning talk\, where RAF Museum Head of Collections and Research Dr Harry Raffal will be taking us through the use of airpower during the evacuation of Dunkirk\, Operation Dynamo. \nTaking place on the 83rd anniversary of the first day of the evacuation\, Harry will draw on the research presented in his book ‘Air Power and the evacuation of Dunkirk’\, to examine how the evacuation of Dunkirk has been immortalised in books\, prints and films\, narrated as a story of an outnumbered\, inexperienced RAF defeating the battle-hardened Luftwaffe and protecting the evacuation. This book revives the historiography by analysing the air operations during the evacuation. Harry draws from German and English sources\, many for the first time in the context of Operation DYNAMO\, to argue that both sides suffered a defeat over Dunkirk. . This work examines the resources and tactics of both sides during DYNAMO and challenges the traditional view that the Luftwaffe held the advantage. The success that the Luftwaffe achieved during DYNAMO\, including halting daylight evacuations on 1 June\, is evaluated and the supporting role of RAF Bomber and Coastal Command is explored in detail for the first time. Concluding that the RAF was not responsible for the Luftwaffe’s failure to prevent the evacuation\, Harry demonstrates that the reasons lay elsewhere. \n \n  \nThis talk will take place onsite in the Museum’s Learning Centre and is included in Museum admission or Annual Membership. \nAdvance booking required – please reserve your seat via the link below. \nReserve Your Place
URL:https://bentleypriorymuseum.org.uk/whats-on/friday-morning-talks-air-power-and-the-evacuation-of-dunkirk-the-raf-and-luftwaffe-during-operation-dynamo/
LOCATION:Bentley Priory Museum\, Mansion House Drive\, Stanmore\, HA7 3FB\, United Kingdom
CATEGORIES:Friday Morning Talks
ATTACH;FMTTYPE=image/jpeg:https://bentleypriorymuseum.org.uk/wp-content/uploads/2023/03/Spitfires-during-Dynamo.jpg
ORGANIZER;CN="Bentley Priory Museum":MAILTO:enquiries@bentleypriorymuseum.org.uk
END:VEVENT
END:VCALENDAR