BEGIN:VCALENDAR
VERSION:2.0
PRODID:-//Bentley Priory Museum - ECPv6.11.0.1//NONSGML v1.0//EN
CALSCALE:GREGORIAN
METHOD:PUBLISH
X-ORIGINAL-URL:https://bentleypriorymuseum.org.uk
X-WR-CALDESC:Events for Bentley Priory Museum
REFRESH-INTERVAL;VALUE=DURATION:PT1H
X-Robots-Tag:noindex
X-PUBLISHED-TTL:PT1H
BEGIN:VTIMEZONE
TZID:Europe/London
BEGIN:DAYLIGHT
TZOFFSETFROM:+0000
TZOFFSETTO:+0100
TZNAME:BST
DTSTART:20250330T010000
END:DAYLIGHT
BEGIN:STANDARD
TZOFFSETFROM:+0100
TZOFFSETTO:+0000
TZNAME:GMT
DTSTART:20251026T010000
END:STANDARD
END:VTIMEZONE
BEGIN:VEVENT
DTSTART;TZID=Europe/London:20250328T110000
DTEND;TZID=Europe/London:20250328T120000
DTSTAMP:20260422T075228
CREATED:20250306T110446Z
LAST-MODIFIED:20250306T111225Z
UID:10004959-1743159600-1743163200@bentleypriorymuseum.org.uk
SUMMARY:Friday Morning Talks: Forgotten stories. Lesser known members of The Few - With Dom Pound
DESCRIPTION:Join us at the Museum for our Friday morning talk\, where Dom Pound will be telling the stories behind 3 of the perhaps lesser known members of  The Few. \n \nDom will be focusing on: \nFlt Lt W. Rhodes-Moorehouse 601 Sqn \nFlt Lt W. Rushmer 603 Sqn \nFlt Lt J. Sanders 615 Sqn \n  \n  \n \n  \nThe talk will take place in the Museum’s Learning Centre and entry is included with Museum admission or Annual Membership. \nAdvance booking required – please reserve your place via the link below. \nReserve Your Place
URL:https://bentleypriorymuseum.org.uk/whats-on/friday-morning-talks-forgotten-stories-lesser-known-members-of-the-few-with-dom-pound/
LOCATION:Bentley Priory Museum\, Mansion House Drive\, Stanmore\, HA7 3FB\, United Kingdom
CATEGORIES:Friday Morning Talks
ATTACH;FMTTYPE=image/jpeg:https://bentleypriorymuseum.org.uk/wp-content/uploads/2025/03/1000013200.jpg
ORGANIZER;CN="Bentley Priory Museum":MAILTO:enquiries@bentleypriorymuseum.org.uk
END:VEVENT
END:VCALENDAR