BEGIN:VCALENDAR
VERSION:2.0
PRODID:-//Bentley Priory Museum - ECPv6.11.0.1//NONSGML v1.0//EN
CALSCALE:GREGORIAN
METHOD:PUBLISH
X-ORIGINAL-URL:https://bentleypriorymuseum.org.uk
X-WR-CALDESC:Events for Bentley Priory Museum
REFRESH-INTERVAL;VALUE=DURATION:PT1H
X-Robots-Tag:noindex
X-PUBLISHED-TTL:PT1H
BEGIN:VTIMEZONE
TZID:Europe/London
BEGIN:DAYLIGHT
TZOFFSETFROM:+0000
TZOFFSETTO:+0100
TZNAME:BST
DTSTART:20250330T010000
END:DAYLIGHT
BEGIN:STANDARD
TZOFFSETFROM:+0100
TZOFFSETTO:+0000
TZNAME:GMT
DTSTART:20251026T010000
END:STANDARD
END:VTIMEZONE
BEGIN:VEVENT
DTSTART;TZID=Europe/London:20250523T110000
DTEND;TZID=Europe/London:20250523T120000
DTSTAMP:20260419T171509
CREATED:20250306T161054Z
LAST-MODIFIED:20250306T161054Z
UID:10004962-1747998000-1748001600@bentleypriorymuseum.org.uk
SUMMARY:Friday Morning Talks: Battle of Britain 85th Anniversary Model Project - With Dom Pound
DESCRIPTION:Join us at the Museum for our Friday morning talk\, where model maker and Battle of Britain enthusiast Dom Pound will be talking to us about the Battle of Britain 85th Anniversary Model Project he has spearheaded across a number of Battle of Britain linked sites across the South East (including Bentley Priory Museum).   \nThe models will help Bentley Priory Museum to share the story of Lock and Neil’s meeting in the sky during the summer of 1940. \nDom has been fascinated by the Battle of Britain since he was a child and describes it as a “life-long passion”. \nHe explains: “At the age of five I attended my first Battle of Britain reunion at RAF Kenley\, back when there were still numerous veterans to still tell the story… by my late teens the numbers of the ‘Few’ had reduced drastically\, but my appreciation for that vital summer of 1940 has grown and I am now dedicated to preserving the memory of the Few however I can. \n“Encouraged by watching my father make kits for me as a small child\, I began building my own at the age of 12. As the years passed\, I took my skills to a new level\, spending many hours making my models as realistic as possible and adding every ounce of spare detail I could. In late 2021\, having used social media to share my builds\, I received my first commissions\, a catalyst for what is now a small\, part-time business. \n“I am now using my skills to create displays for key Battle of Britain sites in time for the 85th anniversary in 2025. I aim to create displays that are interactive and informative but that also inspire commemoration and tell stories. In total I will be creating 17 models that will be displayed at seven sites. \n“I dedicate this project to the memory of the ‘Few’ and the memory of the Battle of Britain 1940.” \nFurther updates on this project can be found on our webpage here: \nhttps://bentleypriorymuseum.org.uk/battle-of-britain-85th-anniversary-model-project/ \nThe talk will take place in the Museum’s Learning Centre and entry is included with Museum admission or Annual Membership. \nAdvance booking required – please reserve your place via the link below. \nReserve Your Place
URL:https://bentleypriorymuseum.org.uk/whats-on/friday-morning-talks-battle-of-britain-85th-anniversary-model-project-with-dom-pound/
LOCATION:Bentley Priory Museum\, Mansion House Drive\, Stanmore\, HA7 3FB\, United Kingdom
CATEGORIES:Friday Morning Talks
ATTACH;FMTTYPE=image/jpeg:https://bentleypriorymuseum.org.uk/wp-content/uploads/2025/03/Model-project.jpg
ORGANIZER;CN="Bentley Priory Museum":MAILTO:enquiries@bentleypriorymuseum.org.uk
END:VEVENT
END:VCALENDAR