BEGIN:VCALENDAR
VERSION:2.0
PRODID:-//Bentley Priory Museum - ECPv6.11.0.1//NONSGML v1.0//EN
CALSCALE:GREGORIAN
METHOD:PUBLISH
X-ORIGINAL-URL:https://bentleypriorymuseum.org.uk
X-WR-CALDESC:Events for Bentley Priory Museum
REFRESH-INTERVAL;VALUE=DURATION:PT1H
X-Robots-Tag:noindex
X-PUBLISHED-TTL:PT1H
BEGIN:VTIMEZONE
TZID:Europe/London
BEGIN:DAYLIGHT
TZOFFSETFROM:+0000
TZOFFSETTO:+0100
TZNAME:BST
DTSTART:20260329T010000
END:DAYLIGHT
BEGIN:STANDARD
TZOFFSETFROM:+0100
TZOFFSETTO:+0000
TZNAME:GMT
DTSTART:20261025T010000
END:STANDARD
END:VTIMEZONE
BEGIN:VEVENT
DTSTART;TZID=Europe/London:20260227T110000
DTEND;TZID=Europe/London:20260227T120000
DTSTAMP:20260420T112449
CREATED:20251023T205224Z
LAST-MODIFIED:20260214T152506Z
UID:10005210-1772190000-1772193600@bentleypriorymuseum.org.uk
SUMMARY:Friday Morning Talks: Missing members of The Few (Part 1) - With Dom Pound
DESCRIPTION:Join us at the Museum for our Friday Morning Talk\, where Dom Pound will be talking to us about some of The Few who were posted missing. \nDom who is an area manager for the Battle of Britain Historical Society and creator of the 1940 Model Trail of Remembrance. \nThis is story of the men who were shot down in 1940 and remained missing until recovered post war. \n\nSgt H Adair – 213 Sqn\nPO G Drake 607 Sqn\nFO F Gruszka 65 Sqn\nSgt E Egan 501 Sqn\n\nThe talk will take place in the Museum’s Learning Centre and entry is included with Museum admission or Annual Membership. \nAdvance booking required – please reserve your place via the link below. \nReserve Your Place
URL:https://bentleypriorymuseum.org.uk/whats-on/friday-morning-talks-missing-members-of-the-few-part-1-with-dom-pound/
LOCATION:Bentley Priory Museum\, Mansion House Drive\, Stanmore\, HA7 3FB\, United Kingdom
CATEGORIES:Friday Morning Talks
ATTACH;FMTTYPE=image/png:https://bentleypriorymuseum.org.uk/wp-content/uploads/2025/10/Screenshot-2025-10-23-214453.png
ORGANIZER;CN="Bentley Priory Museum":MAILTO:enquiries@bentleypriorymuseum.org.uk
END:VEVENT
END:VCALENDAR