BEGIN:VCALENDAR
VERSION:2.0
PRODID:-//Bentley Priory Museum - ECPv6.11.0.1//NONSGML v1.0//EN
CALSCALE:GREGORIAN
METHOD:PUBLISH
X-ORIGINAL-URL:https://bentleypriorymuseum.org.uk
X-WR-CALDESC:Events for Bentley Priory Museum
REFRESH-INTERVAL;VALUE=DURATION:PT1H
X-Robots-Tag:noindex
X-PUBLISHED-TTL:PT1H
BEGIN:VTIMEZONE
TZID:Europe/London
BEGIN:DAYLIGHT
TZOFFSETFROM:+0000
TZOFFSETTO:+0100
TZNAME:BST
DTSTART:20260329T010000
END:DAYLIGHT
BEGIN:STANDARD
TZOFFSETFROM:+0100
TZOFFSETTO:+0000
TZNAME:GMT
DTSTART:20261025T010000
END:STANDARD
END:VTIMEZONE
BEGIN:VEVENT
DTSTART;TZID=Europe/London:20260501T110000
DTEND;TZID=Europe/London:20260501T120000
DTSTAMP:20260423T042458
CREATED:20260226T223236Z
LAST-MODIFIED:20260306T154726Z
UID:10005596-1777633200-1777636800@bentleypriorymuseum.org.uk
SUMMARY:Friday Morning Talks: Missing men of the Battle of Britain - Part 2 - With Dom Pound
DESCRIPTION:Join us at the Museum for our Friday Morning Talk\, where Dom Pound will be  returning to talk to us about some more of The Few who were posted missing. \nMissing members of The Few Part 2 (previous attendance of part 1 not necessary): Dom will be focusing on the next group of men who were shot down in 1940\, but were not found until post war recoveries allowed them to rest in peace. The men covered in this talk will be: \nLt Werner Knittle III/JG51 \nGef Richard Riedel 2/JG3 \nFlt lt H Beresford 257 Sqn \nSgt J Brimble 73 Sqn \nThe talk will take place in the Museum’s Learning Centre and entry is included with Museum admission or Annual Membership. \nAdvance booking required – please reserve your place via the link below. \nReserve Your Place
URL:https://bentleypriorymuseum.org.uk/whats-on/friday-morning-talks-missing-members-of-the-few-part-2-with-dom-pound/
LOCATION:Bentley Priory Museum\, Mansion House Drive\, Stanmore\, HA7 3FB\, United Kingdom
CATEGORIES:Friday Morning Talks
ATTACH;FMTTYPE=image/jpeg:https://bentleypriorymuseum.org.uk/wp-content/uploads/2026/02/1000040103.jpg
ORGANIZER;CN="Bentley Priory Museum":MAILTO:enquiries@bentleypriorymuseum.org.uk
END:VEVENT
END:VCALENDAR