BEGIN:VCALENDAR
VERSION:2.0
PRODID:-//Bentley Priory Museum - ECPv6.11.0.1//NONSGML v1.0//EN
CALSCALE:GREGORIAN
METHOD:PUBLISH
X-ORIGINAL-URL:https://bentleypriorymuseum.org.uk
X-WR-CALDESC:Events for Bentley Priory Museum
REFRESH-INTERVAL;VALUE=DURATION:PT1H
X-Robots-Tag:noindex
X-PUBLISHED-TTL:PT1H
BEGIN:VTIMEZONE
TZID:Europe/London
BEGIN:DAYLIGHT
TZOFFSETFROM:+0000
TZOFFSETTO:+0100
TZNAME:BST
DTSTART:20250330T010000
END:DAYLIGHT
BEGIN:STANDARD
TZOFFSETFROM:+0100
TZOFFSETTO:+0000
TZNAME:GMT
DTSTART:20251026T010000
END:STANDARD
END:VTIMEZONE
BEGIN:VEVENT
DTSTART;TZID=Europe/London:20250709T110000
DTEND;TZID=Europe/London:20250709T120000
DTSTAMP:20260425T114741
CREATED:20250604T163336Z
LAST-MODIFIED:20250604T163354Z
UID:10004991-1752058800-1752062400@bentleypriorymuseum.org.uk
SUMMARY:Bushey Festival Tours 2025
DESCRIPTION:We are delighted to be taking part in this year’s Bushey Festival! \nJoin us for a special Museum tour\, Bentley Priory: From Where The Battle of Britain Was Won \nThis tour is available at 11.00am on Saturday 05th July 2025 and Wednesday 09th July 2025. The tours will start promptly at these times\, so please arrive 15 minutes in advance to check in at reception. The tour is bookable for children but is aimed at an adult audience. \nTour Duration: approx. 1 hour. \nThe Museum galleries\, gardens\, temporary exhibition\, shop and café will be available to visit following your tour. The Museum closes at 5pm. \nTicket information \nAdult: £8.50 \nChild (aged 6 to 16): £5.00 \nAccompanying Carers / 5 and under: Free \nWe are currently switching our online payment provider. To reserve a place\, please email enquiries@bentleypriorymuseum.org.uk or call 020 8950 5526\, providing your: \n-Name \n-Preferred phone number and email address to be contacted on \n-The number of tickets/type you wish to book. \nA member of our team will then make contact within the next couple of weeks to take your payment over the phone. Our apologies for any inconvenience that this may cause.
URL:https://bentleypriorymuseum.org.uk/whats-on/bushey-festival-tours-2025-2/
LOCATION:Bentley Priory Museum\, Mansion House Drive\, Stanmore\, HA7 3FB\, United Kingdom
CATEGORIES:Special Events
ATTACH;FMTTYPE=image/jpeg:https://bentleypriorymuseum.org.uk/wp-content/uploads/2021/03/Front-with-Hurricane-scaled.jpg
ORGANIZER;CN="Bentley Priory Museum":MAILTO:enquiries@bentleypriorymuseum.org.uk
END:VEVENT
END:VCALENDAR