BEGIN:VCALENDAR
VERSION:2.0
PRODID:-//Bentley Priory Museum - ECPv6.11.0.1//NONSGML v1.0//EN
CALSCALE:GREGORIAN
METHOD:PUBLISH
X-WR-CALNAME:Bentley Priory Museum
X-ORIGINAL-URL:https://bentleypriorymuseum.org.uk
X-WR-CALDESC:Events for Bentley Priory Museum
REFRESH-INTERVAL;VALUE=DURATION:PT1H
X-Robots-Tag:noindex
X-PUBLISHED-TTL:PT1H
BEGIN:VTIMEZONE
TZID:Europe/London
BEGIN:DAYLIGHT
TZOFFSETFROM:+0000
TZOFFSETTO:+0100
TZNAME:BST
DTSTART:20160327T010000
END:DAYLIGHT
BEGIN:STANDARD
TZOFFSETFROM:+0100
TZOFFSETTO:+0000
TZNAME:GMT
DTSTART:20161030T010000
END:STANDARD
END:VTIMEZONE
BEGIN:VEVENT
DTSTART;TZID=Europe/London:20161105T110000
DTEND;TZID=Europe/London:20161105T120000
DTSTAMP:20260421T211810
CREATED:20160914T103250Z
LAST-MODIFIED:20160914T103250Z
UID:10001618-1478343600-1478347200@bentleypriorymuseum.org.uk
SUMMARY:BSL Tour - A History of Bentley Priory
DESCRIPTION:A BSL interpreted tour of Bentley Priory Museum for deaf or hard of hearing visitors. \nAll live BSL events are free. Due to limited places advance booking is required at enquiries@bentleypriorymuseum.org.uk or on 020 8950 5526. \nPlease arrive at 10.45am for a prompt start. \n 
URL:https://bentleypriorymuseum.org.uk/whats-on/bsl-tour-a-history-of-bentley-priory/
ATTACH;FMTTYPE=image/jpeg:https://bentleypriorymuseum.org.uk/wp-content/uploads/2015/01/2012-PE-Bentley-Mansion-Ext-HR-2-e1425547574892.jpg
END:VEVENT
BEGIN:VEVENT
DTSTART;TZID=Europe/London:20161118T110000
DTEND;TZID=Europe/London:20161118T120000
DTSTAMP:20260421T211810
CREATED:20160922T072249Z
LAST-MODIFIED:20160922T072249Z
UID:10001741-1479466800-1479470400@bentleypriorymuseum.org.uk
SUMMARY:Friday Morning Talks: 'The Story of Flt Lt Eric Lock DSO\, DFC & Bar'
DESCRIPTION:Join us for another Friday morning talk. This one is the story of Battle of Britain ace\, Eric Lock. \nBy Mike Bradbury\, author of “A Ruddy Awful Waste: Eric Lock\, DSO\, DFC & Bar. The Brief Life of a Battle of Britain Ace”. \nIncluded in Museum admission\, or £3 donation.
URL:https://bentleypriorymuseum.org.uk/whats-on/friday-morning-talks-the-story-of-flt-lt-eric-lock-dso-dfc-bar/
ATTACH;FMTTYPE=image/jpeg:https://bentleypriorymuseum.org.uk/wp-content/uploads/2016/09/Lock.jpg
END:VEVENT
END:VCALENDAR